BEGIN:VCALENDAR
VERSION:2.0
PRODID:-//Mi Agenda Latina - ECPv6.15.13.1//NONSGML v1.0//EN
CALSCALE:GREGORIAN
METHOD:PUBLISH
X-WR-CALNAME:Mi Agenda Latina
X-ORIGINAL-URL:https://miagendalatina.com
X-WR-CALDESC:Events for Mi Agenda Latina
REFRESH-INTERVAL;VALUE=DURATION:PT1H
X-Robots-Tag:noindex
X-PUBLISHED-TTL:PT1H
BEGIN:VTIMEZONE
TZID:America/New_York
BEGIN:DAYLIGHT
TZOFFSETFROM:-0500
TZOFFSETTO:-0400
TZNAME:EDT
DTSTART:20240310T070000
END:DAYLIGHT
BEGIN:STANDARD
TZOFFSETFROM:-0400
TZOFFSETTO:-0500
TZNAME:EST
DTSTART:20241103T060000
END:STANDARD
BEGIN:DAYLIGHT
TZOFFSETFROM:-0500
TZOFFSETTO:-0400
TZNAME:EDT
DTSTART:20250309T070000
END:DAYLIGHT
BEGIN:STANDARD
TZOFFSETFROM:-0400
TZOFFSETTO:-0500
TZNAME:EST
DTSTART:20251102T060000
END:STANDARD
BEGIN:DAYLIGHT
TZOFFSETFROM:-0500
TZOFFSETTO:-0400
TZNAME:EDT
DTSTART:20260308T070000
END:DAYLIGHT
BEGIN:STANDARD
TZOFFSETFROM:-0400
TZOFFSETTO:-0500
TZNAME:EST
DTSTART:20261101T060000
END:STANDARD
END:VTIMEZONE
BEGIN:VEVENT
DTSTART;TZID=America/New_York:20251001T080000
DTEND;TZID=America/New_York:20251001T170000
DTSTAMP:20260419T143630
CREATED:20251001T123049Z
LAST-MODIFIED:20251001T042831Z
UID:2689-1759305600-1759338000@miagendalatina.com
SUMMARY:Toño Rosario en Miami\, FL – 25 de octubre 2025 – El Guacalito
DESCRIPTION:Download QR
URL:https://miagendalatina.com/evento/tono-rosario-en-miami-fl-25-de-octubre-2025-el-guacalito/
LOCATION:El Guacalito\, 11900 SW 8th St\, SW 8th St\, FL
CATEGORIES:Conciertos,Conciertos Florida
ATTACH;FMTTYPE=image/png:https://miagendalatina.com/wp-content/uploads/2025/10/Screenshot-2025-10-01-001318.png
END:VEVENT
BEGIN:VEVENT
DTSTART;TZID=America/New_York:20250928T200000
DTEND;TZID=America/New_York:20250929T010000
DTSTAMP:20260419T143630
CREATED:20250918T123052Z
LAST-MODIFIED:20250918T123031Z
UID:2560-1759089600-1759107600@miagendalatina.com
SUMMARY:Natalia Jiménez y Amanda Miguel – Elizabeth\, NJ – 28 de Septiembre 2025
DESCRIPTION:Download QR
URL:https://miagendalatina.com/evento/2560/
LOCATION:Ritz Theatre\, 1148 East Jersey Street\, Elizabeth\, New Jersey\, 07201
CATEGORIES:Conciertos,Eventos en Nueva Jersey
END:VEVENT
BEGIN:VEVENT
DTSTART;TZID=America/New_York:20250927T220000
DTEND;TZID=America/New_York:20250928T020000
DTSTAMP:20260419T143630
CREATED:20250911T120059Z
LAST-MODIFIED:20250910T055407Z
UID:2314-1759010400-1759024800@miagendalatina.com
SUMMARY:Los Cadetes de Linares & Los Terrícolas – Queens
DESCRIPTION:Download QR
URL:https://miagendalatina.com/evento/los-cadetes-de-linares-los-terricolas-queens/
LOCATION:Sabor Latino\, 95-35 40th Rd\, Elmhurst (Queens)\, 11373\, United States
ATTACH;FMTTYPE=image/jpeg:https://miagendalatina.com/wp-content/uploads/2025/09/SnapInsta.to_541928403_18515054056008617_1942993466661797845_n.jpg
END:VEVENT
BEGIN:VEVENT
DTSTART;TZID=America/New_York:20250927T200000
DTEND;TZID=America/New_York:20250928T010000
DTSTAMP:20260419T143630
CREATED:20250923T123008Z
LAST-MODIFIED:20250922T145943Z
UID:2644-1759003200-1759021200@miagendalatina.com
SUMMARY:Los Nuevos Chavalitos – Efecto Imperial – Diferente Alianza
DESCRIPTION:Download QR
URL:https://miagendalatina.com/evento/los-nuevos-chavalitos-efecto-imperial-diferente-alianza/
LOCATION:La Sensación\, 341 E. Lafayette St\, Norristown\, PA\, 19401
CATEGORIES:Conciertos,Pennsylvania
ATTACH;FMTTYPE=image/jpeg:https://miagendalatina.com/wp-content/uploads/2025/09/nuevos_chavalitos-scaled.jpg
END:VEVENT
BEGIN:VEVENT
DTSTART;TZID=America/New_York:20250927T200000
DTEND;TZID=America/New_York:20250927T233000
DTSTAMP:20260419T143630
CREATED:20250922T133116Z
LAST-MODIFIED:20250922T140449Z
UID:2629-1759003200-1759015800@miagendalatina.com
SUMMARY:Las Chicas Rolands – Trenton\, NJ – 27 de septiembre 2025
DESCRIPTION:Las Chicas Rolands llegan por primera vez a Trenton\, NJ con El Rebañe Catracho. ¡Una noche histórica de punta y cultura catracha! \n\n           Download QR
URL:https://miagendalatina.com/evento/las-chicas-rolands-trenton-nj-27-de-septiembre-2025/
LOCATION:Infinity Lounge\, 100 Whittaker Ave\, Trenton\, 08611\, United States
CATEGORIES:Conciertos,Eventos en Nueva Jersey
ATTACH;FMTTYPE=image/jpeg:https://miagendalatina.com/wp-content/uploads/2025/09/SnapInsta.to_540684878_775158851563627_7845935929167382816_n.jpg
END:VEVENT
BEGIN:VEVENT
DTSTART;TZID=America/New_York:20250927T160000
DTEND;TZID=America/New_York:20250927T220000
DTSTAMP:20260419T143630
CREATED:20250908T123012Z
LAST-MODIFIED:20250916T081756Z
UID:2286-1758988800-1759010400@miagendalatina.com
SUMMARY:Global Citizen Festival 2025 – Shakira & Camilo
DESCRIPTION:Download QR
URL:https://miagendalatina.com/evento/global-citizen-festival-2025-shakira-camilo/
LOCATION:Central Park\, Great Lawn\, New York
ATTACH;FMTTYPE=image/jpeg:https://miagendalatina.com/wp-content/uploads/2025/09/SnapInsta.to_541932682_18523815688060873_1390701871947409830_n.jpg
END:VEVENT
BEGIN:VEVENT
DTSTART;TZID=America/New_York:20250922T080000
DTEND;TZID=America/New_York:20250922T170000
DTSTAMP:20260419T143630
CREATED:20250923T153020Z
LAST-MODIFIED:20250923T033748Z
UID:2651-1758528000-1758560400@miagendalatina.com
SUMMARY:
DESCRIPTION:Download QR
URL:https://miagendalatina.com/evento/2651/
LOCATION:La Finca\, 960 E. 165th St.\, The Bronx\,\, New York\, 10459
CATEGORIES:Conciertos,Eventos en Nueva York
END:VEVENT
BEGIN:VEVENT
DTSTART;TZID=America/New_York:20250920T110000
DTEND;TZID=America/New_York:20250920T180000
DTSTAMP:20260419T143630
CREATED:20250916T213029Z
LAST-MODIFIED:20250915T235116Z
UID:2454-1758366000-1758391200@miagendalatina.com
SUMMARY:Carnaval de la Cultura Latina 2025 – Queens\, NY
DESCRIPTION:Download QR
URL:https://miagendalatina.com/evento/carnaval-de-la-cultura-latina-2025-queens-ny/
LOCATION:Junction Blvd entre Roosevelt Ave y 37 Ave\, Queens\, New York
END:VEVENT
BEGIN:VEVENT
DTSTART;TZID=America/New_York:20250920T110000
DTEND;TZID=America/New_York:20250920T170000
DTSTAMP:20260419T143630
CREATED:20250905T153050Z
LAST-MODIFIED:20250905T155951Z
UID:2235-1758366000-1758387600@miagendalatina.com
SUMMARY:“Happy Valley Latin Festival – State College”
DESCRIPTION:  \n\nEl Happy Valley Latin Festival 2025 llega este sábado 20 de septiembre a la ciudad de State College\, Pensilvania\, para llenar la región central del estado de música\, sabor y tradición. Organizado en la MLK Plaza\, este evento anual celebra la riqueza y diversidad de la cultura latina a través de la música\, la danza\, la gastronomía y las artesanías. \n\n\n\nDurante toda la jornada\, los asistentes podrán disfrutar de presentaciones musicales en vivo que destacan géneros como salsa\, merengue\, bachata y ritmos folklóricos de diferentes países de América Latina. Además\, el festival contará con vendedores de artesanías\, puestos de comida típica y actividades culturales que promueven la unidad y el orgullo de la comunidad latina en Pennsylvania. \n\n\n\nMás que un festival\, el Happy Valley Latin Festival se ha convertido en un espacio de encuentro para familias\, estudiantes universitarios y residentes de la región\, que cada año se dan cita para compartir y celebrar las raíces que enriquecen la vida cultural de State College. \n\n\n\n📌 Con entrada gratuita\, este evento es ideal para disfrutar en familia y vivir de cerca el calor de la cultura latina en el corazón de Pennsylvania. \n\n           Download QR
URL:https://miagendalatina.com/evento/happy-valley-latin-festival-state-college/
LOCATION:MLK Plaza State College
CATEGORIES:Eventos en Nueva Jersey
ATTACH;FMTTYPE=image/jpeg:https://miagendalatina.com/wp-content/uploads/2025/09/499963843_675984491859434_3825210592601342415_n-scaled.jpg
END:VEVENT
BEGIN:VEVENT
DTSTART;TZID=America/New_York:20250918T210000
DTEND;TZID=America/New_York:20250919T010000
DTSTAMP:20260419T143630
CREATED:20250918T123008Z
LAST-MODIFIED:20250917T035654Z
UID:2520-1758229200-1758243600@miagendalatina.com
SUMMARY:
DESCRIPTION:Download QR
URL:https://miagendalatina.com/evento/2520/
LOCATION:Escondido by La Kantina\, 270 Morris Ave\, Elizabeth\, NJ\, United States
END:VEVENT
BEGIN:VEVENT
DTSTART;TZID=America/New_York:20250917T080000
DTEND;TZID=America/New_York:20250917T170000
DTSTAMP:20260419T143630
CREATED:20250917T213004Z
LAST-MODIFIED:20250917T125815Z
UID:2540-1758096000-1758128400@miagendalatina.com
SUMMARY:Ivy Queen – New Brunswick\, NJ – 24 de octubre 2025
DESCRIPTION:Download QR
URL:https://miagendalatina.com/evento/ivy-queen-new-brunswick-nj-24-de-octubre-2025/
LOCATION:State Theatre New Jersey\, 15 Livingston Ave\, New Brunswick\, New Jersey
END:VEVENT
BEGIN:VEVENT
DTSTART;TZID=America/New_York:20250914T120000
DTEND;TZID=America/New_York:20250914T150000
DTSTAMP:20260419T143630
CREATED:20250910T153045Z
LAST-MODIFIED:20250910T035508Z
UID:2307-1757851200-1757862000@miagendalatina.com
SUMMARY:Desfile del Día de la Independencia de México – Staten Island\, NY
DESCRIPTION:Download QR
URL:https://miagendalatina.com/evento/desfile-del-dia-de-la-independencia-de-mexico-staten-island-ny/
LOCATION:Port Richmond Avenue\, Staten Island\, New York
CATEGORIES:Eventos en Nueva York
END:VEVENT
BEGIN:VEVENT
DTSTART;VALUE=DATE:20250913
DTEND;VALUE=DATE:20250915
DTSTAMP:20260419T143630
CREATED:20250905T220010Z
LAST-MODIFIED:20250912T075810Z
UID:2242-1757721600-1757894399@miagendalatina.com
SUMMARY:The Original Latin Food & Culture Fest – Brooklyn\, NY
DESCRIPTION:Download QR
URL:https://miagendalatina.com/evento/the-original-latin-food-culture-fest-brooklyn-ny/
LOCATION:New jersey
CATEGORIES:Eventos en Nueva York
ATTACH;FMTTYPE=image/png:https://miagendalatina.com/wp-content/uploads/2025/09/Logos-02-scaled.png
END:VEVENT
BEGIN:VEVENT
DTSTART;TZID=America/New_York:20250912T220000
DTEND;TZID=America/New_York:20250913T023000
DTSTAMP:20260419T143630
CREATED:20250907T150316Z
LAST-MODIFIED:20250907T150316Z
UID:2279-1757714400-1757730600@miagendalatina.com
SUMMARY:
DESCRIPTION:Download QR
URL:https://miagendalatina.com/evento/2279/
LOCATION:Sabor Latino\, 95-35 40th Rd\, Elmhurst (Queens)\, 11373\, United States
ATTACH;FMTTYPE=image/png:https://miagendalatina.com/wp-content/uploads/2025/09/ChatGPT-Image-Sep-7-2025-10_24_50-AM.png
END:VEVENT
BEGIN:VEVENT
DTSTART;TZID=America/New_York:20250911T080000
DTEND;TZID=America/New_York:20250911T170000
DTSTAMP:20260419T143630
CREATED:20250912T083038Z
LAST-MODIFIED:20250911T075838Z
UID:2329-1757577600-1757610000@miagendalatina.com
SUMMARY:LatinFest Urbano – Philadelphia\, PA
DESCRIPTION:Download QR
URL:https://miagendalatina.com/evento/latinfest-urbano-philadelphia-pa/
LOCATION:Franklin Music Hall\, 421 N 7th St
ATTACH;FMTTYPE=image/jpeg:https://miagendalatina.com/wp-content/uploads/2025/09/45f69927-b93d-4982-9bf4-264f8431293a_TABLET_LANDSCAPE_LARGE_16_9.jpeg
END:VEVENT
BEGIN:VEVENT
DTSTART;TZID=America/New_York:20250906T200000
DTEND;TZID=America/New_York:20250906T200000
DTSTAMP:20260419T143630
CREATED:20250903T234942Z
LAST-MODIFIED:20250903T235323Z
UID:2204-1757188800-1757188800@miagendalatina.com
SUMMARY:Héctor Acosta "El Torito" & Frank Reyes en Newark | Sept 6\, 2025
DESCRIPTION:La música tropical vivirá una noche inolvidable en Newark cuando Héctor Acosta “El Torito” y Frank Reyes suban al escenario del New Jersey Performing Arts Center (NJPAC) este sábado 6 de septiembre de 2025. Dos gigantes de la bachata y el merengue se unen para un espectáculo cargado de energía\, sentimiento y sabor dominicano. \nHéctor Acosta\, conocido como “El Torito”\, ha conquistado al público internacional con su inconfundible voz y éxitos como Me Voy\, Sin Perdón y Pa’ Que Me Perdones. Por su parte\, Frank Reyes\, aclamado como “El Príncipe de la Bachata”\, ha marcado generaciones con clásicos como Noche de Pasión\, Princesa y Quién Eres Tú. La velada contará además con la participación especial de Joe Veras\, completando un cartel de lujo que promete emociones de principio a fin. \nEl NJPAC de Newark será el escenario perfecto para esta celebración de la música latina\, reuniendo a fanáticos del merengue y la bachata en una sola voz. No te pierdas la oportunidad de disfrutar de una experiencia cultural única que celebra nuestras raíces. \n👉 Asegura tus entradas ahora y prepárate para una noche que quedará grabada en la memoria de todos los asistentes. \n\n\n\n\n\n           Download QR
URL:https://miagendalatina.com/evento/hector-acosta-el-torito-frank-reyes-en-newark-sept-6-2025/
LOCATION:NJPAC Prudential Hall\, 1 Center Street\,\, Newark\, NJ\, 07102\, United States
ATTACH;FMTTYPE=image/png:https://miagendalatina.com/wp-content/uploads/2025/09/ChatGPT-Image-Sep-3-2025-07_21_03-PM.png
END:VEVENT
BEGIN:VEVENT
DTSTART;TZID=America/New_York:20250905T210000
DTEND;TZID=America/New_York:20250909T020000
DTSTAMP:20260419T143630
CREATED:20250902T061814Z
LAST-MODIFIED:20250902T061814Z
UID:2181-1757106000-1757383200@miagendalatina.com
SUMMARY:Maelo Ruiz en Brooklyn – La Salsa Romántica en Vivo
DESCRIPTION:El mayor exponente de la salsa romántica llega a Brooklyn\, NY para una noche inolvidable. Además\, Maelo Ruiz traerá todo su repertorio cargado de sentimiento y sabor\, con temas que han marcado a varias generaciones como Te va a doler\, He vuelto por ti y Regálame una noche. \nPor lo tanto\, esta presentación no es solo un concierto\, sino una experiencia que te transportará a los mejores momentos de la salsa romántica. En cambio de una simple salida de viernes\, será una celebración de nuestra cultura y de la música que tanto amamos. \nDe hecho\, los fanáticos saben que cuando Maelo sube al escenario\, el público canta cada letra a coro y el ambiente se llena de energía. Finalmente\, si eres amante de la buena música latina\, esta es tu oportunidad para vivir un show auténtico en el corazón de Brooklyn. \n💃🕺 ¡Reúne a tus amigos\, reserva tu mesa y ven a disfrutar de una velada que quedará en la memoria de todos! \n\n\n\n\n\n           Download QR
URL:https://miagendalatina.com/evento/maelo-ruiz-en-brooklyn-la-salsa-romantica-en-vivo/
LOCATION:Viva Toro\, 987 Grand St\, Brooklyn\, New York\, 10038
CATEGORIES:Conciertos,Eventos en Nueva York,Salsa
ATTACH;FMTTYPE=image/png:https://miagendalatina.com/wp-content/uploads/2025/09/ma-hd.png
END:VEVENT
BEGIN:VEVENT
DTSTART;TZID=America/New_York:20250905T200000
DTEND;TZID=America/New_York:20250906T233000
DTSTAMP:20260419T143630
CREATED:20250903T035611Z
LAST-MODIFIED:20250904T084039Z
UID:2188-1757102400-1757201400@miagendalatina.com
SUMMARY:Eladio Carrión en concierto en Brooklyn – DON KBRN World Tour 2025
DESCRIPTION:El fenómeno del trap latino y reguetón\, Eladio Carrión\, se presenta en Brooklyn\, Nueva York\, como parte de su esperado DON KBRN World Tour. El concierto será el viernes 5 de septiembre de 2025 en el Barclays Center\, uno de los venues más importantes de la ciudad. \nInformación del evento\n\n Fecha: Viernes\, 5 de septiembre de 2025\n Hora: 8:00 PM\n Lugar: Barclays Center – Brooklyn\, NY\n Género: Trap latino / Reguetón\n\nEntradas y boletos para Eladio Carrión en Brooklyn\nLos boletos para Eladio Carrión en Barclays Center ya están disponibles. Asegura tu entrada con anticipación y sé parte de una noche inolvidable con todos sus éxitos\, energía explosiva y una producción de clase mundial. \n Compra tus boletos en Ticketmaster y no te pierdas este concierto histórico en Nueva York. \n\n\n\n\n\n           Download QR
URL:https://miagendalatina.com/evento/eladio-carrion-en-concierto-en-brooklyn-don-kbrn-world-tour-2025/
LOCATION:Barclays Center\, 620 Atlantic Avenue\, Brooklyn\, NY\, 11217\, United States
CATEGORIES:Eventos en Nueva York
ATTACH;FMTTYPE=image/jpeg:https://miagendalatina.com/wp-content/uploads/2025/09/eladio_carrion_2025_1280x1280_1754948070.jpg
END:VEVENT
BEGIN:VEVENT
DTSTART;TZID=America/New_York:20250905T200000
DTEND;TZID=America/New_York:20250906T010000
DTSTAMP:20260419T143630
CREATED:20250903T044549Z
LAST-MODIFIED:20250904T084211Z
UID:2198-1757102400-1757120400@miagendalatina.com
SUMMARY:Anuel AA – Concierto en Newark 2025
DESCRIPTION:  \n  \nLa superestrella del trap latino regresa a New Jersey con un concierto imperdible. \nAnuel AA se presentará en el Prudential Center de Newark como parte de su gira internacional\, trayendo todos sus éxitos y la energía que lo ha convertido en una de las figuras más grandes del género urbano. \nCon una trayectoria marcada por temas que han hecho historia como Sola\, Secreto\, Keii\, Más Rica Que Ayer y colaboraciones con artistas de talla mundial\, Anuel promete un espectáculo cargado de adrenalina\, música y conexión directa con sus fanáticos. \nEl concierto en Newark no será solo una presentación\, sino una verdadera fiesta del reguetón y trap latino\, con un despliegue de luces\, sonido y producción de nivel internacional. Miles de seguidores se reunirán en el Prudential Center para corear cada canción y vivir una experiencia única que solo Anuel AA puede brindar. \nSi eres amante de la música urbana\, este evento es la oportunidad perfecta para disfrutar en vivo de uno de los artistas más influyentes de la última década\, en un escenario de clase mundial.  \n\n\n\n\n\n           Download QR
URL:https://miagendalatina.com/evento/anuel-aa-concierto-en-newark-2025/
LOCATION:Prudential Center – Newark\, NJ\, 25 Lafayette St\,\, Newark\, NJ\, 07102\, United States
CATEGORIES:Eventos en Nueva Jersey
ATTACH;FMTTYPE=image/jpeg:https://miagendalatina.com/wp-content/uploads/2025/09/bdc1ee35-a88d-49e6-ab4c-947be1fd1d45_TABLET_LANDSCAPE_LARGE_16_9.jpeg
END:VEVENT
END:VCALENDAR